BEGIN:VCALENDAR
VERSION:2.0
PRODID:-//TilburgWijzer - ECPv6.15.20//NONSGML v1.0//EN
CALSCALE:GREGORIAN
METHOD:PUBLISH
X-WR-CALNAME:TilburgWijzer
X-ORIGINAL-URL:https://tilburgwijzer.nl
X-WR-CALDESC:Evenementen voor TilburgWijzer
REFRESH-INTERVAL;VALUE=DURATION:PT1H
X-Robots-Tag:noindex
X-PUBLISHED-TTL:PT1H
BEGIN:VTIMEZONE
TZID:Europe/Amsterdam
BEGIN:DAYLIGHT
TZOFFSETFROM:+0100
TZOFFSETTO:+0200
TZNAME:CEST
DTSTART:20250330T010000
END:DAYLIGHT
BEGIN:STANDARD
TZOFFSETFROM:+0200
TZOFFSETTO:+0100
TZNAME:CET
DTSTART:20251026T010000
END:STANDARD
BEGIN:DAYLIGHT
TZOFFSETFROM:+0100
TZOFFSETTO:+0200
TZNAME:CEST
DTSTART:20260329T010000
END:DAYLIGHT
BEGIN:STANDARD
TZOFFSETFROM:+0200
TZOFFSETTO:+0100
TZNAME:CET
DTSTART:20261025T010000
END:STANDARD
BEGIN:DAYLIGHT
TZOFFSETFROM:+0100
TZOFFSETTO:+0200
TZNAME:CEST
DTSTART:20270328T010000
END:DAYLIGHT
BEGIN:STANDARD
TZOFFSETFROM:+0200
TZOFFSETTO:+0100
TZNAME:CET
DTSTART:20271031T010000
END:STANDARD
END:VTIMEZONE
BEGIN:VEVENT
DTSTART;TZID=Europe/Amsterdam:20261101T190000
DTEND;TZID=Europe/Amsterdam:20261101T223000
DTSTAMP:20260425T032655
CREATED:20260225T185036Z
LAST-MODIFIED:20260423T194807Z
UID:171025-1793559600-1793572200@tilburgwijzer.nl
SUMMARY:Walter Trout – 013 Poppodium – 1 november 2026
DESCRIPTION:Walter Trout\nWalter Trout is al meer dan vijftig jaar een van de meest uitgesproken stemmen binnen de bluesrock. Zijn muziek is nooit belerend\, altijd persoonlijk\, en houdt de wereld een spiegel voor. Op het nieuwe album Sign Of The Times (2025) vertaalt Trout de onrust\, woede en twijfel van nu naar songs die snijden én verbinden. “Schrijven is therapie\,” zegt hij zelf over het proces en de impact ervan. \nNieuw album en sound\nSign Of The Times volgt op Broken (2024)\, dat binnenkwam op #1 van de Billboard Blues Chart\, en klinkt directer en steviger dan veel van zijn eerdere werk. Samen met zijn vaste band en co-writer Marie Trout zoekt hij bewust de randen op: confronterend\, emotioneel geladen\, maar altijd geworteld in blues en soul. \nLive in Tilburg\nLive valt alles op zijn plek. In 013 Poppodium in het centrum van Tilburg smeedt Walter Trout in korte tijd een zaal tot één gedeelde ervaring. Zijn bluesrock klinkt luid waar het moet\, kwetsbaar waar het raakt\, en laat zien dat muziek meer kan doen dan alleen vermaken. Een avond voor wie muziek met gewicht en menselijkheid zoekt.
URL:https://tilburgwijzer.nl/evenement/walter-trout-013-poppodium/
CATEGORIES:Blues,Muziek,Rock
ATTACH;FMTTYPE=image/jpeg:https://tilburgwijzer.nl/wp-content/uploads/2026/02/20260225_Web_Walter-Trout-013-Poppodium_event_clean.jpg
END:VEVENT
END:VCALENDAR