BEGIN:VCALENDAR
VERSION:2.0
PRODID:-//TilburgWijzer - ECPv6.15.20//NONSGML v1.0//EN
CALSCALE:GREGORIAN
METHOD:PUBLISH
X-WR-CALNAME:TilburgWijzer
X-ORIGINAL-URL:https://tilburgwijzer.nl
X-WR-CALDESC:Evenementen voor TilburgWijzer
REFRESH-INTERVAL;VALUE=DURATION:PT1H
X-Robots-Tag:noindex
X-PUBLISHED-TTL:PT1H
BEGIN:VTIMEZONE
TZID:Europe/Amsterdam
BEGIN:DAYLIGHT
TZOFFSETFROM:+0100
TZOFFSETTO:+0200
TZNAME:CEST
DTSTART:20250330T010000
END:DAYLIGHT
BEGIN:STANDARD
TZOFFSETFROM:+0200
TZOFFSETTO:+0100
TZNAME:CET
DTSTART:20251026T010000
END:STANDARD
BEGIN:DAYLIGHT
TZOFFSETFROM:+0100
TZOFFSETTO:+0200
TZNAME:CEST
DTSTART:20260329T010000
END:DAYLIGHT
BEGIN:STANDARD
TZOFFSETFROM:+0200
TZOFFSETTO:+0100
TZNAME:CET
DTSTART:20261025T010000
END:STANDARD
BEGIN:DAYLIGHT
TZOFFSETFROM:+0100
TZOFFSETTO:+0200
TZNAME:CEST
DTSTART:20270328T010000
END:DAYLIGHT
BEGIN:STANDARD
TZOFFSETFROM:+0200
TZOFFSETTO:+0100
TZNAME:CET
DTSTART:20271031T010000
END:STANDARD
END:VTIMEZONE
BEGIN:VEVENT
DTSTART;TZID=Europe/Amsterdam:20260801T100000
DTEND;TZID=Europe/Amsterdam:20260801T120000
DTSTAMP:20260424T234651
CREATED:20260304T151253Z
LAST-MODIFIED:20260423T194853Z
UID:171863-1785578400-1785585600@tilburgwijzer.nl
SUMMARY:Wandeling De Zandleij - IVN Tilburg
DESCRIPTION:Wandeling De Zandleij\nOntdek een bijzonder en voor velen onbekend stukje van natuurgebied De Brand tijdens deze wandeling met IVN Tilburg in Tilburg. De wandeling vindt plaats op zaterdag 1 augustus 2026 van 10:00 tot 12:00 uur en start bij de Boshoeve Sprankenhof\, Schoorstraat 26a in Udenhout. \nVerkenning van de Zandleij\nDe route loopt aan de westkant van de Schoorstraat. Hier stroomde vroeger de Oude Zandleij\, die in de jaren zeventig dwars door De Brand werd aangelegd. Deze Zandleij is inmiddels gedempt en vervangen door een nieuwe Zandleij aan de noordkant van het gebied. Tijdens de wandeling hoor je meer over de geschiedenis van de Zandleij en waarom de nieuwe ligging is gekozen. We wandelen zowel langs de Gedempte Zandleij als langs de Nieuwe Zandleij. \nNatuur en ontdekking\nHet gebied is rustig en rijk aan natuur. Tijdens de wandeling is de kans groot dat je juffers en vlinders ziet\, zoals weidebeekjuffers en bosbeekjuffers\, en misschien zelfs de kleine ijsvogelvlinder. De planten langs de waterkant vormen het leefgebied voor een enorme variatie aan insecten\, waardoor er veel te ontdekken en te verwonderen valt. \nPraktische tip\nBij Boshoeve Sprankenhof vind je een biologische pluktuin met een winkel en een klein terras. Na de wandeling kun je hier zelf groente en fruit plukken of iets lekkers drinken op het terras. Trek comfortabele schoenen aan en geniet van een ochtend vol natuur\, historie en prachtige waarnemingen in De Brand.
URL:https://tilburgwijzer.nl/evenement/wandeling-de-zandleij-ivn-tilburg/
CATEGORIES:Gratis,Kunst & Cultuur,Natuur,Wandelingen
ATTACH;FMTTYPE=image/jpeg:https://tilburgwijzer.nl/wp-content/uploads/2026/03/20260304_Web_Wandeling-De-Zandleij-IVN-Tilburg_event_clean.jpg
END:VEVENT
END:VCALENDAR