BEGIN:VCALENDAR
VERSION:2.0
PRODID:-//TilburgWijzer - ECPv6.15.20//NONSGML v1.0//EN
CALSCALE:GREGORIAN
METHOD:PUBLISH
X-WR-CALNAME:TilburgWijzer
X-ORIGINAL-URL:https://tilburgwijzer.nl
X-WR-CALDESC:Evenementen voor TilburgWijzer
REFRESH-INTERVAL;VALUE=DURATION:PT1H
X-Robots-Tag:noindex
X-PUBLISHED-TTL:PT1H
BEGIN:VTIMEZONE
TZID:Europe/Amsterdam
BEGIN:DAYLIGHT
TZOFFSETFROM:+0100
TZOFFSETTO:+0200
TZNAME:CEST
DTSTART:20250330T010000
END:DAYLIGHT
BEGIN:STANDARD
TZOFFSETFROM:+0200
TZOFFSETTO:+0100
TZNAME:CET
DTSTART:20251026T010000
END:STANDARD
BEGIN:DAYLIGHT
TZOFFSETFROM:+0100
TZOFFSETTO:+0200
TZNAME:CEST
DTSTART:20260329T010000
END:DAYLIGHT
BEGIN:STANDARD
TZOFFSETFROM:+0200
TZOFFSETTO:+0100
TZNAME:CET
DTSTART:20261025T010000
END:STANDARD
BEGIN:DAYLIGHT
TZOFFSETFROM:+0100
TZOFFSETTO:+0200
TZNAME:CEST
DTSTART:20270328T010000
END:DAYLIGHT
BEGIN:STANDARD
TZOFFSETFROM:+0200
TZOFFSETTO:+0100
TZNAME:CET
DTSTART:20271031T010000
END:STANDARD
END:VTIMEZONE
BEGIN:VEVENT
DTSTART;TZID=Europe/Amsterdam:20261001T201500
DTEND;TZID=Europe/Amsterdam:20261001T225500
DTSTAMP:20260425T014158
CREATED:20250802T150540Z
LAST-MODIFIED:20260415T085243Z
UID:107175-1790885700-1790895300@tilburgwijzer.nl
SUMMARY:We Will Rock You - Schouwburg Concertzaal Tilburg - 1 oktober 2026
DESCRIPTION:We Will Rock You eindelijk in Tilburg te zien\nSinds de wereldpremière in 2002 hebben meer dan 20 miljoen mensen wereldwijd de spectaculaire musical We Will Rock You gezien. Deze energieke show staat bol van meer dan twintig hits van de legendarische rockband Queen\, waaronder Bohemian Rhapsody\, I Want To Break Free en Somebody To Love. In 2026 is de voorstelling voor het eerst als reizende productie te zien in Nederland\, en wel in de schouwburg in het centrum van Tilburg. \nEen toekomst vol rebellen en rockmuziek\nWe Will Rock You speelt zich af in een dystopische toekomst waarin grote internetbedrijven de wereld beheersen en echte pop- en rockmuziek verboden is. De vraag is: slagen de rebellen erin om die ban te doorbreken? Overwint de kracht van échte rock? Bereid je voor op een onvergetelijke avond vol energie\, spektakel en natuurlijk tijdloze Queen-hits. \nEen knallende show met topcast en liveband\nDe productie komt met een grote liveband en een topcast van Nederlandse bodem\, goedgekeurd door Queen-leden Brian May en Roger Taylor. Onder anderen Magtel de Laat en Lucas Hamming zorgen voor een krachtige uitvoering die recht doet aan het legendarische repertoire. \nVier de muziek en het leven van Queen\nQueen behoort met meer dan 300 miljoen verkochte platen tot de grootste rockbands ooit. In 2025 en 2026 staan diverse jubileums voor de deur: het album A Night at the Opera en Bohemian Rhapsody vieren hun 50-jarig bestaan\, terwijl A Day at the Races en A Kind of Magic respectievelijk 40 jaar oud worden. Op 5 september 2026 zou Freddie Mercury tachtig jaar zijn geworden. Wat is een mooiere manier om dit te vieren dan met We Will Rock You? Mis deze unieke kans niet!
URL:https://tilburgwijzer.nl/evenement/we-will-rock-you-albert-verlinde-theater-1-oktober-2026/
CATEGORIES:Musical & Muziektheater,Muziek,Poprock,Theater
ATTACH;FMTTYPE=image/jpeg:https://tilburgwijzer.nl/wp-content/uploads/2025/08/20250802_Web_We-Will-Rock-You-Schouwburg-Concertzaal-Tilburg_event_clean.jpg
END:VEVENT
END:VCALENDAR