BEGIN:VCALENDAR
VERSION:2.0
PRODID:-//TilburgWijzer - ECPv6.15.20//NONSGML v1.0//EN
CALSCALE:GREGORIAN
METHOD:PUBLISH
X-WR-CALNAME:TilburgWijzer
X-ORIGINAL-URL:https://tilburgwijzer.nl
X-WR-CALDESC:Evenementen voor TilburgWijzer
REFRESH-INTERVAL;VALUE=DURATION:PT1H
X-Robots-Tag:noindex
X-PUBLISHED-TTL:PT1H
BEGIN:VTIMEZONE
TZID:Europe/Amsterdam
BEGIN:DAYLIGHT
TZOFFSETFROM:+0100
TZOFFSETTO:+0200
TZNAME:CEST
DTSTART:20250330T010000
END:DAYLIGHT
BEGIN:STANDARD
TZOFFSETFROM:+0200
TZOFFSETTO:+0100
TZNAME:CET
DTSTART:20251026T010000
END:STANDARD
BEGIN:DAYLIGHT
TZOFFSETFROM:+0100
TZOFFSETTO:+0200
TZNAME:CEST
DTSTART:20260329T010000
END:DAYLIGHT
BEGIN:STANDARD
TZOFFSETFROM:+0200
TZOFFSETTO:+0100
TZNAME:CET
DTSTART:20261025T010000
END:STANDARD
BEGIN:DAYLIGHT
TZOFFSETFROM:+0100
TZOFFSETTO:+0200
TZNAME:CEST
DTSTART:20270328T010000
END:DAYLIGHT
BEGIN:STANDARD
TZOFFSETFROM:+0200
TZOFFSETTO:+0100
TZNAME:CET
DTSTART:20271031T010000
END:STANDARD
END:VTIMEZONE
BEGIN:VEVENT
DTSTART;TZID=Europe/Amsterdam:20260207T110000
DTEND;TZID=Europe/Amsterdam:20260207T160000
DTSTAMP:20260425T014300
CREATED:20251110T145717Z
LAST-MODIFIED:20260107T194852Z
UID:144044-1770462000-1770480000@tilburgwijzer.nl
SUMMARY:Wekelijks Tuinieren met gratis lunch - Giardino d’Italia - 7 februari 2026
DESCRIPTION:Tuinieren bij Restaurant Giardino en Den Rijacker\nWil je leren over tuinieren en tegelijk lekker bewegen met gezellige mensen? Bij Restaurant Giardino en de gemeenschapstuin Den Rijacker in Tilburg ben je van harte welkom! Leer snoeien\, stekken\, planten\, enten en meer\, terwijl je direct iets moois opbouwt. \nProgramma van de dag\nElke zaterdag verzamelen we om 11.00 uur in de tuin met een kop koffie of thee. Daarna gaan we aan de slag met verschillende klusjes. Rond 14.00 uur is er een gratis lunch voor iedereen die heeft meegewerkt. \nVoor iedereen wat te doen\nOf je nu groene vingers hebt of ze nog wilt ontwikkelen\, er is altijd een taak die bij je past. Kies uit arbeidsintensieve klussen of kleinere werkzaamheden. Neem gerust je eigen tuinvragen mee: Bram weet alles over planten\, ongedierte\, zonlichtbehoefte en plantennamen. Geen zorgen als je iets niet weet\, hij vindt het zo voor je uit! \nMeedoen\nLaat even weten dat je komt\, zodat we rekening kunnen houden met de inkoop. Je kunt je aanmelden door een e-mail te sturen naar jan@janvanbeurden.nl\, te bellen of gewoon een keer binnen te wandelen. \nKom zaterdag langs en ontdek hoe leuk tuinieren kan zijn\, terwijl je samen met anderen iets moois creëert!
URL:https://tilburgwijzer.nl/evenement/wekelijks-tuinieren-met-gratis-lunch-giardino-ditalia-7-februari-2026/
CATEGORIES:Natuur,Ontmoeten
ATTACH;FMTTYPE=image/jpeg:https://tilburgwijzer.nl/wp-content/uploads/2025/11/20251110_Web_Wekelijks-Tuinieren-met-gratis-lunch-Giardino-dItalia_event_clean.jpg
END:VEVENT
END:VCALENDAR